{
 "currentVersion": 10.81,
 "serviceDescription": "Raster/DEM_2021_Merged_2284",
 "name": "Raster/DEM_2021_Merged_2284",
 "description": "",
 "extent": {
  "xmin": 1.1449439999999959E7,
  "ymin": 3877664.999999993,
  "xmax": 1.1529999999999959E7,
  "ymax": 3926279.999999993,
  "spatialReference": {
   "wkid": 102747,
   "latestWkid": 2284
  }
 },
 "initialExtent": {
  "xmin": 1.1449439999999959E7,
  "ymin": 3877664.999999993,
  "xmax": 1.1529999999999959E7,
  "ymax": 3926279.999999993,
  "spatialReference": {
   "wkid": 102747,
   "latestWkid": 2284
  }
 },
 "fullExtent": {
  "xmin": 1.1449439999999959E7,
  "ymin": 3877664.999999993,
  "xmax": 1.1529999999999959E7,
  "ymax": 3926279.999999993,
  "spatialReference": {
   "wkid": 102747,
   "latestWkid": 2284
  }
 },
 "pixelSizeX": 2.5,
 "pixelSizeY": 2.5,
 "bandCount": 1,
 "pixelType": "F32",
 "minPixelSize": 0,
 "maxPixelSize": 0,
 "copyrightText": "",
 "serviceDataType": "esriImageServiceDataTypeGeneric",
 "minValues": [
  95.80655670166016
 ],
 "maxValues": [
  1467.287841796875
 ],
 "meanValues": [
  499.6685790932452
 ],
 "stdvValues": [
  137.37617585348465
 ],
 "objectIdField": "",
 "fields": [],
 "capabilities": "Image,Metadata,Mensuration",
 "defaultMosaicMethod": "Center",
 "allowedMosaicMethods": "",
 "sortField": "",
 "sortValue": null,
 "sortAscending": true,
 "mosaicOperator": "First",
 "defaultCompressionQuality": 75,
 "defaultResamplingMethod": "Bilinear",
 "maxImageHeight": 4100,
 "maxImageWidth": 15000,
 "allowRasterFunction": true,
 "rasterFunctionInfos": [
  {
   "name": "None",
   "description": "",
   "help": ""
  }
 ],
 "rasterTypeInfos": [
  {
   "name": "Raster Dataset",
   "description": "Supports all ArcGIS Raster Datasets",
   "help": ""
  }
 ],
 "mensurationCapabilities": "Basic",
 "hasHistograms": true,
 "hasColormap": false,
 "hasRasterAttributeTable": false,
 "minScale": 0,
 "maxScale": 0,
 "exportTilesAllowed": false,
 "hasMultidimensions": false,
 "supportsStatistics": false,
 "supportsAdvancedQueries": false,
 "editFieldsInfo": null,
 "ownershipBasedAccessControlForRasters": null,
 "allowComputeTiePoints": false,
 "useStandardizedQueries": true,
 "advancedQueryCapabilities": {
  "useStandardizedQueries": true,
  "supportsStatistics": false,
  "supportsOrderBy": false,
  "supportsDistinct": false,
  "supportsPagination": false
 },
 "spatialReference": {
  "wkid": 102747,
  "latestWkid": 2284
 }
}
