View In:
ArcGIS JavaScript
ArcGIS Online Map Viewer
ArcGIS Earth
ArcMap
View Footprint In:
ArcGIS Online Map Viewer
Service Description: 2018_COLOR_3IN_IMAGE_SERVICE
Name: 2018_COLOR_3IN_IMAGE_SERVICE
Description:
Single Fused Map Cache: true
Tile Info:
- Height: 256
- Width: 256
- DPI: 96
-
Levels of Detail: 8
- Format: MIXED
- Compression Quality: 75.0
- LERC Error: NaN
- Origin: X: -1.111406E8
Y: 1.5371500000000003E8
- Spatial Reference: PROJCS["NAD_1983_HARN_StatePlane_Virginia_South_FIPS_4502_Feet",GEOGCS["GCS_North_American_1983_HARN",DATUM["D_NAD83_High_Accuracy_Reference_Network",SPHEROID["GRS_1980",6378137.0,298.257222101]],PRIMEM["Greenwich",0.0],UNIT["Degree",0.0174532925199433]],PROJECTION["Lambert_Conformal_Conic"],PARAMETER["false_easting",11482916.66666666],PARAMETER["false_northing",3280833.333333333],PARAMETER["central_meridian",-78.5],PARAMETER["standard_parallel_1",36.76666666666667],PARAMETER["standard_parallel_2",37.96666666666667],PARAMETER["latitude_of_origin",36.33333333333334],UNIT["Foot_US",0.3048006096012192]]
Extent:
XMin: 11403750
YMin: 3875000
XMax: 11530000
YMax: 3960000
Spatial Reference: PROJCS["NAD_1983_HARN_StatePlane_Virginia_South_FIPS_4502_Feet",GEOGCS["GCS_North_American_1983_HARN",DATUM["D_NAD83_High_Accuracy_Reference_Network",SPHEROID["GRS_1980",6378137.0,298.257222101]],PRIMEM["Greenwich",0.0],UNIT["Degree",0.0174532925199433]],PROJECTION["Lambert_Conformal_Conic"],PARAMETER["false_easting",11482916.66666666],PARAMETER["false_northing",3280833.333333333],PARAMETER["central_meridian",-78.5],PARAMETER["standard_parallel_1",36.76666666666667],PARAMETER["standard_parallel_2",37.96666666666667],PARAMETER["latitude_of_origin",36.33333333333334],UNIT["Foot_US",0.3048006096012192]]
Initial Extent:
XMin: 11403750
YMin: 3875000
XMax: 11530000
YMax: 3960000
Spatial Reference: PROJCS["NAD_1983_HARN_StatePlane_Virginia_South_FIPS_4502_Feet",GEOGCS["GCS_North_American_1983_HARN",DATUM["D_NAD83_High_Accuracy_Reference_Network",SPHEROID["GRS_1980",6378137.0,298.257222101]],PRIMEM["Greenwich",0.0],UNIT["Degree",0.0174532925199433]],PROJECTION["Lambert_Conformal_Conic"],PARAMETER["false_easting",11482916.66666666],PARAMETER["false_northing",3280833.333333333],PARAMETER["central_meridian",-78.5],PARAMETER["standard_parallel_1",36.76666666666667],PARAMETER["standard_parallel_2",37.96666666666667],PARAMETER["latitude_of_origin",36.33333333333334],UNIT["Foot_US",0.3048006096012192]]
Full Extent:
XMin: 11403750
YMin: 3875000
XMax: 11530000
YMax: 3960000
Spatial Reference: PROJCS["NAD_1983_HARN_StatePlane_Virginia_South_FIPS_4502_Feet",GEOGCS["GCS_North_American_1983_HARN",DATUM["D_NAD83_High_Accuracy_Reference_Network",SPHEROID["GRS_1980",6378137.0,298.257222101]],PRIMEM["Greenwich",0.0],UNIT["Degree",0.0174532925199433]],PROJECTION["Lambert_Conformal_Conic"],PARAMETER["false_easting",11482916.66666666],PARAMETER["false_northing",3280833.333333333],PARAMETER["central_meridian",-78.5],PARAMETER["standard_parallel_1",36.76666666666667],PARAMETER["standard_parallel_2",37.96666666666667],PARAMETER["latitude_of_origin",36.33333333333334],UNIT["Foot_US",0.3048006096012192]]
Pixel Size X: 0.25
Pixel Size Y: 0.25
Band Count: 3
Pixel Type: U8
RasterFunction Infos: {"rasterFunctionInfos": [{
"name": "None",
"description": "",
"help": ""
}]}
Mensuration Capabilities: Basic
Has Histograms: true
Has Colormap: false
Has Multi Dimensions : false
Rendering Rule:
Min Scale: 32000
Max Scale: 250
Min LOD: 0
Max LOD: 7
Copyright Text:
Service Data Type: esriImageServiceDataTypeRGB
Min Values: 9, 9, 5
Max Values: 255, 255, 255
Mean Values: 189.87749615975, 189.26420890937, 184.37596006144
Standard Deviation Values: 81.781517225039, 82.432307620141, 88.332341243958
Object ID Field:
Fields:
None
Default Mosaic Method: Center
Allowed Mosaic Methods:
SortField:
SortValue: null
Mosaic Operator: First
Default Compression Quality: 75
Default Resampling Method: Bilinear
Max Record Count: null
Max Image Height: 4100
Max Image Width: 15000
Max Download Image Count: null
Max Mosaic Image Count: null
Allow Raster Function: true
Allow Copy: null
Allow Analysis: null
Allow Compute TiePoints: false
Supports Statistics: false
Supports Advanced Queries: false
Use StandardizedQueries: true
Raster Type Infos:
Name: Raster Dataset
Description: Supports all ArcGIS Raster Datasets
Help:
Has Raster Attribute Table: false
Edit Fields Info: null
Ownership Based AccessControl For Rasters: null
Child Resources:
Info
Histograms
Key Properties
Legend
Raster Function Infos
Supported Operations:
Export Image
Identify
Measure
Compute Histograms
Compute Statistics Histograms
Get Samples
Compute Class Statistics
Query Boundary
Compute Pixel Location
Validate
Project