{
 "currentVersion": 10.91,
 "serviceDescription": "CriticalSlopeLotRegulation",
 "name": "CriticalSlopeLotRegulation",
 "description": "",
 "extent": {
  "xmin": 1.14750025E7,
  "ymin": 3890002.5,
  "xmax": 1.14999975E7,
  "ymax": 3914997.5,
  "spatialReference": {
   "wkid": 103177,
   "latestWkid": 6595
  }
 },
 "initialExtent": {
  "xmin": 1.14750025E7,
  "ymin": 3890002.5,
  "xmax": 1.14999975E7,
  "ymax": 3914997.5,
  "spatialReference": {
   "wkid": 103177,
   "latestWkid": 6595
  }
 },
 "fullExtent": {
  "xmin": 1.14750025E7,
  "ymin": 3890002.5,
  "xmax": 1.14999975E7,
  "ymax": 3914997.5,
  "spatialReference": {
   "wkid": 103177,
   "latestWkid": 6595
  }
 },
 "pixelSizeX": 2.5,
 "pixelSizeY": 2.5,
 "bandCount": 1,
 "pixelType": "U1",
 "minPixelSize": 0,
 "maxPixelSize": 0,
 "copyrightText": "",
 "serviceDataType": "esriImageServiceDataTypeGeneric",
 "minValues": [
  1
 ],
 "maxValues": [
  1
 ],
 "meanValues": [
  1
 ],
 "stdvValues": [
  0
 ],
 "objectIdField": "",
 "fields": [],
 "capabilities": "Image,Metadata,Mensuration",
 "defaultMosaicMethod": "Center",
 "allowedMosaicMethods": "",
 "sortField": "",
 "sortValue": null,
 "sortAscending": true,
 "mosaicOperator": "First",
 "defaultCompressionQuality": 75,
 "defaultResamplingMethod": "Bilinear",
 "maxImageHeight": 4100,
 "maxImageWidth": 15000,
 "allowRasterFunction": true,
 "rasterFunctionInfos": [
  {
   "name": "None",
   "description": "",
   "help": ""
  }
 ],
 "rasterTypeInfos": [
  {
   "name": "Raster Dataset",
   "description": "Supports all ArcGIS Raster Datasets",
   "help": ""
  }
 ],
 "mensurationCapabilities": "Basic",
 "hasHistograms": true,
 "hasColormap": false,
 "hasRasterAttributeTable": true,
 "minScale": 0,
 "maxScale": 0,
 "exportTilesAllowed": false,
 "hasMultidimensions": false,
 "supportsStatistics": false,
 "supportsAdvancedQueries": false,
 "editFieldsInfo": null,
 "ownershipBasedAccessControlForRasters": null,
 "allowComputeTiePoints": false,
 "useStandardizedQueries": true,
 "advancedQueryCapabilities": {
  "useStandardizedQueries": true,
  "supportsStatistics": false,
  "supportsOrderBy": false,
  "supportsDistinct": false,
  "supportsPagination": false
 },
 "spatialReference": {
  "wkid": 103177,
  "latestWkid": 6595
 }
}
