{
 "currentVersion": 10.91,
 "serviceDescription": "CPD_Raster_Boundary_Update_2",
 "name": "CPD_Raster_Boundary_Update_2",
 "description": "",
 "extent": {
  "xmin": 1.1479682030080099E7,
  "ymin": 3894698.539847234,
  "xmax": 1.149579034231817E7,
  "ymax": 3903664.669833461,
  "spatialReference": {
   "wkid": 102747,
   "latestWkid": 2284
  }
 },
 "initialExtent": {
  "xmin": 1.1479682030080099E7,
  "ymin": 3894698.539847234,
  "xmax": 1.149579034231817E7,
  "ymax": 3903664.669833461,
  "spatialReference": {
   "wkid": 102747,
   "latestWkid": 2284
  }
 },
 "fullExtent": {
  "xmin": 1.1479682030080099E7,
  "ymin": 3894698.539847234,
  "xmax": 1.149579034231817E7,
  "ymax": 3903664.669833461,
  "spatialReference": {
   "wkid": 102747,
   "latestWkid": 2284
  }
 },
 "pixelSizeX": 11.95865793472243,
 "pixelSizeY": 11.970801049702303,
 "bandCount": 3,
 "pixelType": "U8",
 "minPixelSize": 0,
 "maxPixelSize": 0,
 "copyrightText": "",
 "serviceDataType": "esriImageServiceDataTypeRGB",
 "minValues": [
  0,
  0,
  0
 ],
 "maxValues": [
  255,
  255,
  255
 ],
 "meanValues": [
  200.2859761249691,
  200.63900309880944,
  197.9828408764835
 ],
 "stdvValues": [
  49.01798863104279,
  47.45485163131674,
  45.69073211894093
 ],
 "objectIdField": "",
 "fields": [],
 "capabilities": "Image,Metadata,Mensuration",
 "defaultMosaicMethod": "Center",
 "allowedMosaicMethods": "",
 "sortField": "",
 "sortValue": null,
 "sortAscending": true,
 "mosaicOperator": "First",
 "defaultCompressionQuality": 75,
 "defaultResamplingMethod": "Bilinear",
 "maxImageHeight": 4100,
 "maxImageWidth": 15000,
 "allowRasterFunction": true,
 "rasterFunctionInfos": [
  {
   "name": "None",
   "description": "",
   "help": ""
  }
 ],
 "rasterTypeInfos": [
  {
   "name": "Raster Dataset",
   "description": "Supports all ArcGIS Raster Datasets",
   "help": ""
  }
 ],
 "mensurationCapabilities": "Basic",
 "hasHistograms": true,
 "hasColormap": false,
 "hasRasterAttributeTable": false,
 "minScale": 0,
 "maxScale": 0,
 "exportTilesAllowed": false,
 "hasMultidimensions": false,
 "supportsStatistics": false,
 "supportsAdvancedQueries": false,
 "editFieldsInfo": null,
 "ownershipBasedAccessControlForRasters": null,
 "allowComputeTiePoints": false,
 "useStandardizedQueries": true,
 "advancedQueryCapabilities": {
  "useStandardizedQueries": true,
  "supportsStatistics": false,
  "supportsOrderBy": false,
  "supportsDistinct": false,
  "supportsPagination": false
 },
 "spatialReference": {
  "wkid": 102747,
  "latestWkid": 2284
 }
}
