{
 "currentVersion": 10.91,
 "serviceDescription": "",
 "mapName": "Layers",
 "description": "",
 "copyrightText": "",
 "supportsDynamicLayers": true,
 "layers": [
  {
   "id": 0,
   "name": "cache_area_web_mercator",
   "parentLayerId": -1,
   "defaultVisibility": false,
   "subLayerIds": null,
   "minScale": 0,
   "maxScale": 0,
   "type": "Feature Layer",
   "geometryType": "esriGeometryPolygon"
  },
  {
   "id": 1,
   "name": "2002_COLOR_200_SCALE - copy 1.sid",
   "parentLayerId": -1,
   "defaultVisibility": true,
   "subLayerIds": null,
   "minScale": 0,
   "maxScale": 0,
   "type": "Raster Layer"
  }
 ],
 "tables": [],
 "spatialReference": {
  "wkid": 102100,
  "latestWkid": 3857
 },
 "singleFusedMapCache": true,
 "tileInfo": {
  "rows": 256,
  "cols": 256,
  "dpi": 96,
  "format": "JPEG",
  "compressionQuality": 75,
  "origin": {
   "x": -2.0037508342787E7,
   "y": 2.0037508342787E7
  },
  "spatialReference": {
   "wkid": 102100,
   "latestWkid": 3857
  },
  "lods": [
   {
    "level": 0,
    "resolution": 38.21851414253662,
    "scale": 144447.638572
   },
   {
    "level": 1,
    "resolution": 19.10925707126831,
    "scale": 72223.819286
   },
   {
    "level": 2,
    "resolution": 9.554628535634155,
    "scale": 36111.909643
   },
   {
    "level": 3,
    "resolution": 4.77731426794937,
    "scale": 18055.954822
   },
   {
    "level": 4,
    "resolution": 2.388657133974685,
    "scale": 9027.977411
   },
   {
    "level": 5,
    "resolution": 1.1943285668550503,
    "scale": 4513.988705
   },
   {
    "level": 6,
    "resolution": 0.5971642835598172,
    "scale": 2256.994353
   },
   {
    "level": 7,
    "resolution": 0.29858214164761665,
    "scale": 1128.497176
   },
   {
    "level": 8,
    "resolution": 0.1492910708238083,
    "scale": 564.248588
   }
  ]
 },
 "initialExtent": {
  "xmin": -8777473.56789517,
  "ymin": 4587949.294388527,
  "xmax": -8705821.498451535,
  "ymax": 4609016.892774204,
  "spatialReference": {
   "cs": "pcs",
   "wkid": 102100
  }
 },
 "fullExtent": {
  "xmin": -8773439.69281964,
  "ymin": 4564536.070955705,
  "xmax": -8702107.883489355,
  "ymax": 4605811.153505869,
  "spatialReference": {
   "cs": "pcs",
   "wkid": 102100
  }
 },
 "minScale": 144447.638572,
 "maxScale": 564.248588,
 "units": "esriMeters",
 "supportedImageFormatTypes": "PNG32,PNG24,PNG,JPG,DIB,TIFF,EMF,PS,PDF,GIF,SVG,SVGZ,BMP",
 "documentInfo": {
  "Title": "",
  "Author": "",
  "Comments": "",
  "Subject": "",
  "Category": "",
  "AntialiasingMode": "None",
  "TextAntialiasingMode": "Force",
  "Keywords": ""
 },
 "capabilities": "Map,Query,Data",
 "supportedQueryFormats": "JSON, geoJSON",
 "exportTilesAllowed": false,
 "referenceScale": 0,
 "datumTransformations": [
  {
   "geoTransforms": [
    {
     "wkid": 108001,
     "latestWkid": 1241,
     "transformForward": true,
     "name": "NAD_1927_To_NAD_1983_NADCON"
    }
   ]
  },
  {
   "geoTransforms": [
    {
     "wkid": 108001,
     "latestWkid": 1241,
     "transformForward": false,
     "name": "NAD_1927_To_NAD_1983_NADCON"
    }
   ]
  }
 ],
 "supportsDatumTransformation": true,
 "maxRecordCount": 1000,
 "maxImageHeight": 4096,
 "maxImageWidth": 4096,
 "supportedExtensions": "KmlServer"
}
