View In:
ArcGIS JavaScript
ArcGIS Online Map Viewer
ArcGIS Earth
ArcMap
View Footprint In:
ArcGIS Online Map Viewer
Service Description: CPD_Raster_Boundary_Update_2
Name: CPD_Raster_Boundary_Update_2
Description:
Single Fused Map Cache: false
Extent:
XMin: 1.1479682030080099E7
YMin: 3894698.539847234
XMax: 1.149579034231817E7
YMax: 3903664.669833461
Spatial Reference: 102747
(2284)
Initial Extent:
XMin: 1.1479682030080099E7
YMin: 3894698.539847234
XMax: 1.149579034231817E7
YMax: 3903664.669833461
Spatial Reference: 102747
(2284)
Full Extent:
XMin: 1.1479682030080099E7
YMin: 3894698.539847234
XMax: 1.149579034231817E7
YMax: 3903664.669833461
Spatial Reference: 102747
(2284)
Pixel Size X: 11.95865793472243
Pixel Size Y: 11.970801049702303
Band Count: 3
Pixel Type: U8
RasterFunction Infos: {"rasterFunctionInfos": [{
"name": "None",
"description": "",
"help": ""
}]}
Mensuration Capabilities: Basic
Has Histograms: true
Has Colormap: false
Has Multi Dimensions : false
Rendering Rule:
Min Scale: 0
Max Scale: 0
Copyright Text:
Service Data Type: esriImageServiceDataTypeRGB
Min Values: 0, 0, 0
Max Values: 255, 255, 255
Mean Values: 200.2859761249691, 200.63900309880944, 197.9828408764835
Standard Deviation Values: 49.01798863104279, 47.45485163131674, 45.69073211894093
Object ID Field:
Fields:
None
Default Mosaic Method: Center
Allowed Mosaic Methods:
SortField:
SortValue: null
Mosaic Operator: First
Default Compression Quality: 75
Default Resampling Method: Bilinear
Max Record Count: null
Max Image Height: 4100
Max Image Width: 15000
Max Download Image Count: null
Max Mosaic Image Count: null
Allow Raster Function: true
Allow Copy: null
Allow Analysis: null
Allow Compute TiePoints: false
Supports Statistics: false
Supports Advanced Queries: false
Use StandardizedQueries: true
Raster Type Infos:
Name: Raster Dataset
Description: Supports all ArcGIS Raster Datasets
Help:
Has Raster Attribute Table: false
Edit Fields Info: null
Ownership Based AccessControl For Rasters: null
Child Resources:
Info
Histograms
Key Properties
Legend
Raster Function Infos
Supported Operations:
Export Image
Identify
Measure
Compute Histograms
Compute Statistics Histograms
Get Samples
Compute Class Statistics
Query Boundary
Compute Pixel Location
Validate
Project