View In:
ArcGIS JavaScript
ArcGIS Online Map Viewer
ArcGIS Earth
ArcMap
View Footprint In:
ArcGIS Online Map Viewer
Service Description: Raster/DEM_2021_Merged_2284
Name: Raster/DEM_2021_Merged_2284
Description:
Single Fused Map Cache: false
Extent:
XMin: 1.1449439999999959E7
YMin: 3877664.999999993
XMax: 1.1529999999999959E7
YMax: 3926279.999999993
Spatial Reference: 102747
(2284)
Initial Extent:
XMin: 1.1449439999999959E7
YMin: 3877664.999999993
XMax: 1.1529999999999959E7
YMax: 3926279.999999993
Spatial Reference: 102747
(2284)
Full Extent:
XMin: 1.1449439999999959E7
YMin: 3877664.999999993
XMax: 1.1529999999999959E7
YMax: 3926279.999999993
Spatial Reference: 102747
(2284)
Pixel Size X: 2.5
Pixel Size Y: 2.5
Band Count: 1
Pixel Type: F32
RasterFunction Infos: {"rasterFunctionInfos": [{
"name": "None",
"description": "",
"help": ""
}]}
Mensuration Capabilities: Basic
Has Histograms: true
Has Colormap: false
Has Multi Dimensions : false
Rendering Rule:
Min Scale: 0
Max Scale: 0
Copyright Text:
Service Data Type: esriImageServiceDataTypeGeneric
Min Values: 95.80655670166016
Max Values: 1467.287841796875
Mean Values: 499.6685790932452
Standard Deviation Values: 137.37617585348465
Object ID Field:
Fields:
None
Default Mosaic Method: Center
Allowed Mosaic Methods:
SortField:
SortValue: null
Mosaic Operator: First
Default Compression Quality: 75
Default Resampling Method: Bilinear
Max Record Count: null
Max Image Height: 4100
Max Image Width: 15000
Max Download Image Count: null
Max Mosaic Image Count: null
Allow Raster Function: true
Allow Copy: null
Allow Analysis: null
Allow Compute TiePoints: false
Supports Statistics: false
Supports Advanced Queries: false
Use StandardizedQueries: true
Raster Type Infos:
Name: Raster Dataset
Description: Supports all ArcGIS Raster Datasets
Help:
Has Raster Attribute Table: false
Edit Fields Info: null
Ownership Based AccessControl For Rasters: null
Child Resources:
Info
Histograms
Key Properties
Legend
Raster Function Infos
Supported Operations:
Export Image
Identify
Measure
Compute Histograms
Compute Statistics Histograms
Get Samples
Compute Class Statistics
Query Boundary
Compute Pixel Location
Validate
Project